BEGIN:VCALENDAR
VERSION:2.0
PRODID:-//The Self-Publishing Advice Center - ECPv6.15.18//NONSGML v1.0//EN
CALSCALE:GREGORIAN
METHOD:PUBLISH
X-ORIGINAL-URL:https://selfpublishingadvice.org
X-WR-CALDESC:Events for The Self-Publishing Advice Center
REFRESH-INTERVAL;VALUE=DURATION:PT1H
X-Robots-Tag:noindex
X-PUBLISHED-TTL:PT1H
BEGIN:VTIMEZONE
TZID:Europe/London
BEGIN:DAYLIGHT
TZOFFSETFROM:+0000
TZOFFSETTO:+0100
TZNAME:BST
DTSTART:20240331T010000
END:DAYLIGHT
BEGIN:STANDARD
TZOFFSETFROM:+0100
TZOFFSETTO:+0000
TZNAME:GMT
DTSTART:20241027T010000
END:STANDARD
BEGIN:DAYLIGHT
TZOFFSETFROM:+0000
TZOFFSETTO:+0100
TZNAME:BST
DTSTART:20250330T010000
END:DAYLIGHT
BEGIN:STANDARD
TZOFFSETFROM:+0100
TZOFFSETTO:+0000
TZNAME:GMT
DTSTART:20251026T010000
END:STANDARD
BEGIN:DAYLIGHT
TZOFFSETFROM:+0000
TZOFFSETTO:+0100
TZNAME:BST
DTSTART:20260329T010000
END:DAYLIGHT
BEGIN:STANDARD
TZOFFSETFROM:+0100
TZOFFSETTO:+0000
TZNAME:GMT
DTSTART:20261025T010000
END:STANDARD
END:VTIMEZONE
BEGIN:VEVENT
DTSTART;TZID=Europe/London:20251030T190000
DTEND;TZID=Europe/London:20251030T200000
DTSTAMP:20260421T225152
CREATED:20251002T114132Z
LAST-MODIFIED:20251007T103653Z
UID:10000299-1761850800-1761854400@selfpublishingadvice.org
SUMMARY:LIVE PARTNER WEBINAR: Reaching Readers with Kobo Writing Life
DESCRIPTION:For indie authors\, Rakuten Kobo plays a vital role in digital book sales worldwide. \nThis session will give you insights into Kobo’s non-exclusive subscription program\, Kobo Plus\, and find out how subscriptions are tapping into a new readership and increasing author earnings. \nPlus\, learn about the marketing strategies that work and find out what promotional opportunities are available to authors publishing through Kobo Writing Life. \nDon't miss this Member exclusive engaging and highly informative session with Tara Cremin\, Director of Rakuten Kobo.
URL:https://selfpublishingadvice.org/events/live-partner-webinar-kobo-writing-life/
LOCATION:SellfPubConnect
CATEGORIES:Partner Member Live Webinar
ATTACH;FMTTYPE=image/jpeg:https://selfpublishingadvice.org/wp-content/uploads/2025/10/SelfPublishingAdvice.org-1.jpg
END:VEVENT
END:VCALENDAR