BEGIN:VCALENDAR
VERSION:2.0
PRODID:-//The Self-Publishing Advice Center - ECPv6.15.18//NONSGML v1.0//EN
CALSCALE:GREGORIAN
METHOD:PUBLISH
X-ORIGINAL-URL:https://selfpublishingadvice.org
X-WR-CALDESC:Events for The Self-Publishing Advice Center
REFRESH-INTERVAL;VALUE=DURATION:PT1H
X-Robots-Tag:noindex
X-PUBLISHED-TTL:PT1H
BEGIN:VTIMEZONE
TZID:Europe/London
BEGIN:DAYLIGHT
TZOFFSETFROM:+0000
TZOFFSETTO:+0100
TZNAME:BST
DTSTART:20250330T010000
END:DAYLIGHT
BEGIN:STANDARD
TZOFFSETFROM:+0100
TZOFFSETTO:+0000
TZNAME:GMT
DTSTART:20251026T010000
END:STANDARD
BEGIN:DAYLIGHT
TZOFFSETFROM:+0000
TZOFFSETTO:+0100
TZNAME:BST
DTSTART:20260329T010000
END:DAYLIGHT
BEGIN:STANDARD
TZOFFSETFROM:+0100
TZOFFSETTO:+0000
TZNAME:GMT
DTSTART:20261025T010000
END:STANDARD
BEGIN:DAYLIGHT
TZOFFSETFROM:+0000
TZOFFSETTO:+0100
TZNAME:BST
DTSTART:20270328T010000
END:DAYLIGHT
BEGIN:STANDARD
TZOFFSETFROM:+0100
TZOFFSETTO:+0000
TZNAME:GMT
DTSTART:20271031T010000
END:STANDARD
END:VTIMEZONE
BEGIN:VEVENT
DTSTART;TZID=Europe/London:20260107T130000
DTEND;TZID=Europe/London:20260107T140000
DTSTAMP:20260422T000801
CREATED:20251121T094356Z
LAST-MODIFIED:20251121T094356Z
UID:10000444-1767790800-1767794400@selfpublishingadvice.org
SUMMARY:PODCAST DROP: Spoken: Bring Your Book to Life with AI-assisted Audio (including multi-voice)
DESCRIPTION:In this episode of the ALLi Self-Publishing Advice Podcast\, Anna Featherstone speaks with Phil Marshall\, co-founder of Spoken\, about the fast-changing world of audiobook production — and how authors can now economically record their audiobook using AI versions of their own voice or bring multi-voice works to life. \nSpoken is a relatively new ALLi partner member whose platform is designed specifically for authors\, offering natural-sounding narration with a cast of custom-generated voices and licensed voice clones from human voice actors. If you've ever wondered how to create an audiobook without breaking the bank\, or how to finally bring your backlist to life in audio\, this conversation is essential listening. \nThe Self-Publishing With ALLi Production & Distribution Podcast Stream is proudly sponsored by Gatekeeper Press – Your partner in premium independent publishing. Empowering authors with expert guidance\, 100% rights\, 100% royalties\, and global distribution. From editing to marketing\, their all-inclusive services help you publish professionally and confidently. Gatekeeper Press — Where Authors Are Family.
URL:https://selfpublishingadvice.org/events/podcast-drop-spoken-bring-your-book-to-life-with-ai-assisted-audio-including-multi-voice/
LOCATION:ALLi Podcast
CATEGORIES:Podcast
ATTACH;FMTTYPE=image/jpeg:https://selfpublishingadvice.org/wp-content/uploads/2025/10/BANNER_Production_Distribution_Anna.jpg.jpg
END:VEVENT
END:VCALENDAR